BEGIN:VCALENDAR
VERSION:2.0
PRODID:-//KUNST&KULTURTAGE MÜMMELMANNSBERG e.V.//NONSGML kigkonsult.se iCal
 creator 2.30.10//
CALSCALE:GREGORIAN
METHOD:PUBLISH
UID:1653c8af-3f7a-4061-b3c2-d03a5567f18b
X-WR-CALNAME:iCagenda
X-WR-CALDESC:Event Management Extension for Joomla!
X-WR-RELCALID:3E26604A-50F4-4449-8B3E-E4F4932D05B5
X-WR-TIMEZONE:Europe/Berlin
BEGIN:VTIMEZONE
TZID:Europe/Berlin
BEGIN:STANDARD
TZNAME:CET
DTSTART:20251026T030000
TZOFFSETFROM:+0200
TZOFFSETTO:+0100
RDATE:20261025T030000
RDATE:20271031T030000
END:STANDARD
BEGIN:DAYLIGHT
TZNAME:CEST
DTSTART:20260329T020000
TZOFFSETFROM:+0100
TZOFFSETTO:+0200
RDATE:20270328T020000
END:DAYLIGHT
END:VTIMEZONE
BEGIN:VEVENT
UID:a521f2f1-b9b7-4be7-9842-7cdc0b195a31
DTSTAMP:20260420T052114Z
CATEGORIES:Planungstreffen
CLASS:PUBLIC
DESCRIPTION;ALTREP="CID:<FFFF__=0ABBE548DFE235B58f9e8a93d@coffeebean.com>":
 Allgemeine Besprechung der Veranstaltung\n\nThemen der Sitzung:\n\nStand d
 er Anmeldungen\nAbstimmung der Mitmachaktionen\nAbstimmung Flyer und Plaka
 te\nAbstimmung Musik &amp\; Unterhaltungsangebot\nVerbesserungsmaßnahmen\n
 Freie Themen\n\n
DTSTART:20260611T160000Z
DTEND:20260611T190000Z
GEO:+53.529793;+10.153052
LOCATION:Fotogruppe Graukeil
ORGANIZER:
SEQUENCE:1
SUMMARY:3. Organisationstreffen
TRANSP:OPAQUE
URL:https://www.kunst-und-kulturtage-muemmelmannsberg.de/index.php/veransta
 ltung/termine/10-3-organisationstreffen
END:VEVENT
END:VCALENDAR
