BEGIN:VCALENDAR
VERSION:2.0
PRODID:-//KUNST&KULTURTAGE MÜMMELMANNSBERG e.V.//NONSGML kigkonsult.se iCal
 creator 2.30.10//
CALSCALE:GREGORIAN
METHOD:PUBLISH
UID:931780f3-eb74-4073-b1e8-4ffebb13893a
X-WR-CALNAME:iCagenda
X-WR-CALDESC:Event Management Extension for Joomla!
X-WR-RELCALID:3E26604A-50F4-4449-8B3E-E4F4932D05B5
X-WR-TIMEZONE:Europe/Berlin
BEGIN:VTIMEZONE
TZID:Europe/Berlin
BEGIN:STANDARD
TZNAME:CET
DTSTART:20251026T030000
TZOFFSETFROM:+0200
TZOFFSETTO:+0100
RDATE:20261025T030000
RDATE:20271031T030000
END:STANDARD
BEGIN:DAYLIGHT
TZNAME:CEST
DTSTART:20260329T020000
TZOFFSETFROM:+0100
TZOFFSETTO:+0200
RDATE:20270328T020000
END:DAYLIGHT
END:VTIMEZONE
BEGIN:VEVENT
UID:052076e3-479d-4b98-ae75-6d5d1e86b791
DTSTAMP:20260420T070445Z
CATEGORIES:Planungstreffen
CLASS:PUBLIC
DESCRIPTION;ALTREP="CID:<FFFF__=0ABBE548DFE235B58f9e8a93d@coffeebean.com>":
 Allgemeine Besprechung der Veranstaltung\n\nThemen der Sitzung:\n\nStand d
 er Anmeldungen\nAbstimmung der Mitmachaktionen\nAbstimmung Flyer und Plaka
 te\nAbstimmung Musik &amp\; Unterhaltungsangebot\nVerbesserungsmaßnahmen\n
 Freie Themen\n\n\n&nbsp\;
DTSTART:20260806T160000Z
DTEND:20260806T190000Z
GEO:+53.530144;+10.150578
LOCATION:Frauenmalgruppe WIR e.V.
ORGANIZER;CN=:organisation@kunst-und-kulturtage-muemmelmannsberg.de
SEQUENCE:1
SUMMARY:4. Organisationstreffen
TRANSP:OPAQUE
URL:https://www.kunst-und-kulturtage-muemmelmannsberg.de/index.php/veransta
 ltung/termine/2-4-organisationstreffen
END:VEVENT
END:VCALENDAR
