BEGIN:VCALENDAR
VERSION:2.0
PRODID:-//KUNST&KULTURTAGE MÜMMELMANNSBERG e.V.//NONSGML kigkonsult.se iCal
 creator 2.30.10//
CALSCALE:GREGORIAN
METHOD:PUBLISH
UID:b78499d4-93b1-4c37-b041-4e597ade49c3
X-WR-CALNAME:iCagenda
X-WR-CALDESC:Event Management Extension for Joomla!
X-WR-RELCALID:3E26604A-50F4-4449-8B3E-E4F4932D05B5
X-WR-TIMEZONE:Europe/Berlin
BEGIN:VTIMEZONE
TZID:Europe/Berlin
BEGIN:STANDARD
TZNAME:CET
DTSTART:20251026T030000
TZOFFSETFROM:+0200
TZOFFSETTO:+0100
RDATE:20261025T030000
RDATE:20271031T030000
END:STANDARD
BEGIN:DAYLIGHT
TZNAME:CEST
DTSTART:20260329T020000
TZOFFSETFROM:+0100
TZOFFSETTO:+0200
RDATE:20270328T020000
END:DAYLIGHT
END:VTIMEZONE
BEGIN:VEVENT
UID:5d5716ff-b1b1-46eb-9856-109c273dd123
DTSTAMP:20260420T131813Z
CATEGORIES:Planungstreffen
CLASS:PUBLIC
DESCRIPTION;ALTREP="CID:<FFFF__=0ABBE548DFE235B58f9e8a93d@coffeebean.com>":
 Themen der Sitzung:\n\nStand der Anmeldungen\nVorstellung Standplan\nVorst
 ellung des Bühnenprogramms\nAbstimmung der Mitmachaktionen\nAbstimmung Fly
 er und Plakate\nVerbesserungsmaßnahmen\nFreie Themen\n
DTSTART:20260906T130000Z
DTEND:20260906T160000Z
GEO:+53.525024;+10.151106
LOCATION:Künstlerkeller (Atelier)
ORGANIZER;CN=:vorstand@kunst-und-kulturtage-muemmelmannsberg.de
SEQUENCE:1
SUMMARY:5. Organisationstreffen
TRANSP:OPAQUE
URL:https://www.kunst-und-kulturtage-muemmelmannsberg.de/index.php/veransta
 ltung/termine/3-5-organisationstreffen
END:VEVENT
END:VCALENDAR
