BEGIN:VCALENDAR
VERSION:2.0
PRODID:-//KUNST&KULTURTAGE MÜMMELMANNSBERG e.V.//NONSGML kigkonsult.se iCal
 creator 2.30.10//
CALSCALE:GREGORIAN
METHOD:PUBLISH
UID:1da10635-75f2-478f-a2ba-5bd52b2ca8e8
X-WR-CALNAME:iCagenda
X-WR-CALDESC:Event Management Extension for Joomla!
X-WR-RELCALID:3E26604A-50F4-4449-8B3E-E4F4932D05B5
X-WR-TIMEZONE:Europe/Berlin
BEGIN:VTIMEZONE
TZID:Europe/Berlin
BEGIN:STANDARD
TZNAME:CET
DTSTART:20251026T030000
TZOFFSETFROM:+0200
TZOFFSETTO:+0100
RDATE:20261025T030000
RDATE:20271031T030000
END:STANDARD
BEGIN:DAYLIGHT
TZNAME:CEST
DTSTART:20260329T020000
TZOFFSETFROM:+0100
TZOFFSETTO:+0200
RDATE:20270328T020000
END:DAYLIGHT
END:VTIMEZONE
BEGIN:VEVENT
UID:c5e80822-cfc2-488a-824f-d06b1b7b5b7f
DTSTAMP:20260420T053752Z
CATEGORIES:Planungstreffen
CLASS:PUBLIC
DESCRIPTION;ALTREP="CID:<FFFF__=0ABBE548DFE235B58f9e8a93d@coffeebean.com>":
 In der Stadtteilschule\, dem Veranstaltungsort der Kunst&amp\;Kulturtage M
 ümmelmannsberg\, treffen wir uns um die Veranstaltung zu besprechen.Eingel
 aden sind alle angemeldeten Ausstellerinnen und Aussteller um die Organisa
 tion und Durchführung der Veranstaltung zu besprechen.\nWir stellen den vo
 rläufigen Standplan vor\, stellen Plakate und Flyer kostenfrei zur Verfügu
 ng.Wir bitten damit die Kunst&amp\;Kulturtage Mümmelmannsberg im Umfeld de
 r Ausstellenden zu bewerben.\n&nbsp\;\nThemen im Überblick\n\nVeranstaltun
 gsvorbesprechung\nVorstellung der Standpläne\nVerteilung Flyer und Plakate
 \nAufgabenverteilung\n\nHier sind alle Teilnehmenden eingeladen teilzunehm
 en!&nbsp\;
DTSTART:20260924T170000Z
DTEND:20260924T190000Z
GEO:+53.531307;+10.148714
LOCATION:Stadtteilschule Mümmelmannsberg
ORGANIZER;CN=:vorstand@kunst-und-kulturtage-muemmelmannsberg.de
SEQUENCE:1
SUMMARY:6. Organisationstreffen
TRANSP:OPAQUE
URL:https://www.kunst-und-kulturtage-muemmelmannsberg.de/index.php/veransta
 ltung/termine/5-6-organisationstreffen
END:VEVENT
END:VCALENDAR
