BEGIN:VCALENDAR
VERSION:2.0
PRODID:-//KUNST&KULTURTAGE MÜMMELMANNSBERG e.V.//NONSGML kigkonsult.se iCal
 creator 2.30.10//
CALSCALE:GREGORIAN
METHOD:PUBLISH
UID:1cb0b297-6576-407d-964a-56f51c6c94d4
X-WR-CALNAME:iCagenda
X-WR-CALDESC:Event Management Extension for Joomla!
X-WR-RELCALID:3E26604A-50F4-4449-8B3E-E4F4932D05B5
X-WR-TIMEZONE:Europe/Berlin
BEGIN:VTIMEZONE
TZID:Europe/Berlin
BEGIN:STANDARD
TZNAME:CET
DTSTART:20261025T030000
TZOFFSETFROM:+0200
TZOFFSETTO:+0100
RDATE:20271031T030000
END:STANDARD
BEGIN:DAYLIGHT
TZNAME:CEST
DTSTART:20260329T020000
TZOFFSETFROM:+0100
TZOFFSETTO:+0200
RDATE:20270328T020000
RDATE:20280326T020000
END:DAYLIGHT
END:VTIMEZONE
BEGIN:VEVENT
UID:8a735b0f-10bd-487c-ad4a-10f99e8144be
DTSTAMP:20260420T051505Z
CATEGORIES:Veranstaltung
CLASS:PUBLIC
DESCRIPTION;ALTREP="CID:<FFFF__=0ABBE548DFE235B58f9e8a93d@coffeebean.com>":
 Zweiter Tag der Kunst&amp\;Kulturtage.Weitere Infos im Flyer der Veranstal
 tung (Verfügbar ab 20.09.)
DTSTART:20261108T100000Z
DTEND:20261108T160000Z
GEO:+53.531307;+10.148714
LOCATION:Stadtteilschule Mümmelmannsberg
ORGANIZER:
SEQUENCE:1
SUMMARY:46. Kunst&Kulturtage Mümmelmannsberg
TRANSP:OPAQUE
URL:https://www.kunst-und-kulturtage-muemmelmannsberg.de/index.php/veransta
 ltung/termine/6-46-kunst-kulturtage-muemmelmannsberg-2
END:VEVENT
END:VCALENDAR
