BEGIN:VCALENDAR
VERSION:2.0
PRODID:-//KUNST&KULTURTAGE MÜMMELMANNSBERG e.V.//NONSGML kigkonsult.se iCal
 creator 2.30.10//
CALSCALE:GREGORIAN
METHOD:PUBLISH
UID:fbe691f7-938c-4418-b2fe-77e4096912a0
X-WR-CALNAME:iCagenda
X-WR-CALDESC:Event Management Extension for Joomla!
X-WR-RELCALID:3E26604A-50F4-4449-8B3E-E4F4932D05B5
X-WR-TIMEZONE:Europe/Berlin
BEGIN:VTIMEZONE
TZID:Europe/Berlin
BEGIN:STANDARD
TZNAME:CET
DTSTART:20261025T030000
TZOFFSETFROM:+0200
TZOFFSETTO:+0100
RDATE:20271031T030000
END:STANDARD
BEGIN:DAYLIGHT
TZNAME:CEST
DTSTART:20260329T020000
TZOFFSETFROM:+0100
TZOFFSETTO:+0200
RDATE:20270328T020000
RDATE:20280326T020000
END:DAYLIGHT
END:VTIMEZONE
BEGIN:VEVENT
UID:44a59a24-68a7-4ef3-811c-070dc23bfa93
DTSTAMP:20260420T054026Z
CATEGORIES:Veranstaltung
CLASS:PUBLIC
DESCRIPTION;ALTREP="CID:<FFFF__=0ABBE548DFE235B58f9e8a93d@coffeebean.com>":
 Wir bereiten die Schule auf die Kunst&amp\;Kulturtage Mümmelmannsberg vor.
 DIe Teilnahme für alle Ausstellenden ist verpflichtend.\nZeitplan\n\n17:00
  - ~18:00&nbsp\; &nbsp\; &nbsp\;Aufbau der Grundstruktur\n18:00 - ~20:00&n
 bsp\; &nbsp\; &nbsp\;Ausgabe der Leihtische\n18:00 - ~22:00&nbsp\; &nbsp\;
  &nbsp\;Aufbau der Stände\n
DTSTART:20261106T160000Z
DTEND:20261106T210000Z
GEO:+53.531307;+10.148714
LOCATION:Stadtteilschule Mümmelmannsberg
ORGANIZER;CN=:organisation@kunst-und-kulturtage-muemmelmannsberg.de
SEQUENCE:1
SUMMARY:Aufbautermin
TRANSP:OPAQUE
URL:https://www.kunst-und-kulturtage-muemmelmannsberg.de/index.php/veransta
 ltung/termine/7-aufbautermin
END:VEVENT
END:VCALENDAR
