BEGIN:VCALENDAR
VERSION:2.0
PRODID:-//KUNST&KULTURTAGE MÜMMELMANNSBERG e.V.//NONSGML kigkonsult.se iCal
 creator 2.30.10//
CALSCALE:GREGORIAN
METHOD:PUBLISH
UID:e64a730e-3352-4318-bb91-535c191575fc
X-WR-CALNAME:iCagenda
X-WR-CALDESC:Event Management Extension for Joomla!
X-WR-RELCALID:3E26604A-50F4-4449-8B3E-E4F4932D05B5
X-WR-TIMEZONE:Europe/Berlin
BEGIN:VTIMEZONE
TZID:Europe/Berlin
BEGIN:STANDARD
TZNAME:CET
DTSTART:20261025T030000
TZOFFSETFROM:+0200
TZOFFSETTO:+0100
RDATE:20271031T030000
END:STANDARD
BEGIN:DAYLIGHT
TZNAME:CEST
DTSTART:20260329T020000
TZOFFSETFROM:+0100
TZOFFSETTO:+0200
RDATE:20270328T020000
RDATE:20280326T020000
END:DAYLIGHT
END:VTIMEZONE
BEGIN:VEVENT
UID:d3125442-3d9a-4359-b746-27d76f20c45c
DTSTAMP:20260420T053753Z
CATEGORIES:Planungstreffen
CLASS:PUBLIC
DESCRIPTION;ALTREP="CID:<FFFF__=0ABBE548DFE235B58f9e8a93d@coffeebean.com>":
 Wir blicken auf die Kunst&amp\;Kulturtage Mümmelmannsberg zurück.Ziel ist 
 es die guten und verbesserungsfähigen Punkte zu bennen\, um daraus eine no
 ch bessere Veranstaltung durchführen zu können.\n&nbsp\;
DTSTART:20261119T170000Z
DTEND:20261119T200000Z
GEO:+53.528912;+10.152473
LOCATION:Fotogruppe Graukeil
ORGANIZER;CN=:organisation@kunst-und-kulturtage-muemmelmannsberg.de
SEQUENCE:1
SUMMARY:7. Organisationstreffen
TRANSP:OPAQUE
URL:https://www.kunst-und-kulturtage-muemmelmannsberg.de/index.php/veransta
 ltung/termine/8-7-organisationstreffen
END:VEVENT
END:VCALENDAR
