BEGIN:VCALENDAR
VERSION:2.0
PRODID:-//KUNST&KULTURTAGE MÜMMELMANNSBERG e.V.//NONSGML kigkonsult.se iCal
 creator 2.30.10//
CALSCALE:GREGORIAN
METHOD:PUBLISH
UID:531cc6d8-030b-4267-aca3-523542f48bce
X-WR-CALNAME:iCagenda
X-WR-CALDESC:Event Management Extension for Joomla!
X-WR-RELCALID:3E26604A-50F4-4449-8B3E-E4F4932D05B5
X-WR-TIMEZONE:Europe/Berlin
BEGIN:VTIMEZONE
TZID:Europe/Berlin
BEGIN:STANDARD
TZNAME:CET
DTSTART:20261025T030000
TZOFFSETFROM:+0200
TZOFFSETTO:+0100
RDATE:20271031T030000
END:STANDARD
BEGIN:DAYLIGHT
TZNAME:CEST
DTSTART:20260329T020000
TZOFFSETFROM:+0100
TZOFFSETTO:+0200
RDATE:20270328T020000
RDATE:20280326T020000
END:DAYLIGHT
END:VTIMEZONE
BEGIN:VEVENT
UID:5d5899b4-af57-4160-8adb-144dfef5cdb9
DTSTAMP:20260420T051310Z
CATEGORIES:Planungstreffen
CLASS:PUBLIC
DESCRIPTION;ALTREP="CID:<FFFF__=0ABBE548DFE235B58f9e8a93d@coffeebean.com>":
 Wir suchen das Motto für die kommende Sonderausstellung.\nUnter allen Vors
 chlägen wird das nächste Thema gewählt.
DTSTART:20270121T170000Z
DTEND:20270121T200000Z
GEO:+53.530144;+10.150578
LOCATION:Frauenmalgruppe WIR e.V.
ORGANIZER;CN=:organisation@kunst-und-kulturtage-muemmelmannsberg.de
SEQUENCE:1
SUMMARY:1. Organisationstreffen 2027
TRANSP:OPAQUE
URL:https://www.kunst-und-kulturtage-muemmelmannsberg.de/index.php/veransta
 ltung/termine/9-1-organisationstreffen-2027
END:VEVENT
END:VCALENDAR
